BEGIN:VCALENDAR
VERSION:2.0
PRODID:Events Booking
BEGIN:VEVENT
UID:69e739f3e3fc9
SUMMARY:Séance « Parlons-photo »
DESCRIPTION:Intervention de Diane Chesnel
DTSTART:20260407T183000Z
DTEND:20260407T203000Z
DTSTAMP:20250923T123441Z
ORGANIZER;CN=Photophiles de Villennes:MAILTO:  annepetitphotophiles@gmail.c
 om
END:VEVENT
END:VCALENDAR